BEGIN:VCALENDAR
VERSION:2.0
PRODID:-//Johnsonburg Area School District - ECPv6.15.17.1//NONSGML v1.0//EN
CALSCALE:GREGORIAN
METHOD:PUBLISH
X-WR-CALNAME:Johnsonburg Area School District
X-ORIGINAL-URL:https://www.johnsonburgasd.net
X-WR-CALDESC:Events for Johnsonburg Area School District
REFRESH-INTERVAL;VALUE=DURATION:PT1H
X-Robots-Tag:noindex
X-PUBLISHED-TTL:PT1H
BEGIN:VTIMEZONE
TZID:America/New_York
BEGIN:DAYLIGHT
TZOFFSETFROM:-0500
TZOFFSETTO:-0400
TZNAME:EDT
DTSTART:20260308T070000
END:DAYLIGHT
BEGIN:STANDARD
TZOFFSETFROM:-0400
TZOFFSETTO:-0500
TZNAME:EST
DTSTART:20261101T060000
END:STANDARD
BEGIN:DAYLIGHT
TZOFFSETFROM:-0500
TZOFFSETTO:-0400
TZNAME:EDT
DTSTART:20270314T070000
END:DAYLIGHT
BEGIN:STANDARD
TZOFFSETFROM:-0400
TZOFFSETTO:-0500
TZNAME:EST
DTSTART:20271107T060000
END:STANDARD
BEGIN:DAYLIGHT
TZOFFSETFROM:-0500
TZOFFSETTO:-0400
TZNAME:EDT
DTSTART:20280312T070000
END:DAYLIGHT
BEGIN:STANDARD
TZOFFSETFROM:-0400
TZOFFSETTO:-0500
TZNAME:EST
DTSTART:20281105T060000
END:STANDARD
END:VTIMEZONE
BEGIN:VEVENT
DTSTART;VALUE=DATE:20270503
DTEND;VALUE=DATE:20270504
DTSTAMP:20260421T071726
CREATED:20260318T162747Z
LAST-MODIFIED:20260318T162747Z
UID:10000449-1809302400-1809388799@www.johnsonburgasd.net
SUMMARY:Act 80 Day - AM Only
DESCRIPTION:
URL:https://www.johnsonburgasd.net/event/act-80-day-am-only-6
END:VEVENT
BEGIN:VEVENT
DTSTART;VALUE=DATE:20270503
DTEND;VALUE=DATE:20270508
DTSTAMP:20260421T071726
CREATED:20260318T163412Z
LAST-MODIFIED:20260318T163412Z
UID:10000455-1809302400-1809734399@www.johnsonburgasd.net
SUMMARY:PSSA Testing Window - Grades 3-8 Math\, Science\, and Makeups
DESCRIPTION:
URL:https://www.johnsonburgasd.net/event/pssa-testing-window-grades-3-8-math-science-and-makeups
END:VEVENT
BEGIN:VEVENT
DTSTART;VALUE=DATE:20270517
DTEND;VALUE=DATE:20270529
DTSTAMP:20260421T071726
CREATED:20260318T163843Z
LAST-MODIFIED:20260318T164935Z
UID:10000457-1810512000-1811548799@www.johnsonburgasd.net
SUMMARY:Keystone Exams Testing Window - Algebra I\, Biology\, Literature
DESCRIPTION:
URL:https://www.johnsonburgasd.net/event/keyston-exams-testing-window-algebra-i-biology-literature
END:VEVENT
BEGIN:VEVENT
DTSTART;VALUE=DATE:20270528
DTEND;VALUE=DATE:20270529
DTSTAMP:20260421T071726
CREATED:20260318T160040Z
LAST-MODIFIED:20260318T160040Z
UID:10000428-1811462400-1811548799@www.johnsonburgasd.net
SUMMARY:School Closed
DESCRIPTION:
URL:https://www.johnsonburgasd.net/event/school-closed-15
END:VEVENT
BEGIN:VEVENT
DTSTART;VALUE=DATE:20270531
DTEND;VALUE=DATE:20270601
DTSTAMP:20260421T071726
CREATED:20260318T160128Z
LAST-MODIFIED:20260318T160128Z
UID:10000429-1811721600-1811807999@www.johnsonburgasd.net
SUMMARY:Memorial Day - School Closed
DESCRIPTION:
URL:https://www.johnsonburgasd.net/event/memorial-day-school-closed-4
END:VEVENT
END:VCALENDAR