BEGIN:VCALENDAR
VERSION:2.0
PRODID:-//Johnsonburg Area School District - ECPv6.15.17.1//NONSGML v1.0//EN
CALSCALE:GREGORIAN
METHOD:PUBLISH
X-WR-CALNAME:Johnsonburg Area School District
X-ORIGINAL-URL:https://www.johnsonburgasd.net
X-WR-CALDESC:Events for Johnsonburg Area School District
REFRESH-INTERVAL;VALUE=DURATION:PT1H
X-Robots-Tag:noindex
X-PUBLISHED-TTL:PT1H
BEGIN:VTIMEZONE
TZID:America/New_York
BEGIN:DAYLIGHT
TZOFFSETFROM:-0500
TZOFFSETTO:-0400
TZNAME:EDT
DTSTART:20230312T070000
END:DAYLIGHT
BEGIN:STANDARD
TZOFFSETFROM:-0400
TZOFFSETTO:-0500
TZNAME:EST
DTSTART:20231105T060000
END:STANDARD
BEGIN:DAYLIGHT
TZOFFSETFROM:-0500
TZOFFSETTO:-0400
TZNAME:EDT
DTSTART:20240310T070000
END:DAYLIGHT
BEGIN:STANDARD
TZOFFSETFROM:-0400
TZOFFSETTO:-0500
TZNAME:EST
DTSTART:20241103T060000
END:STANDARD
BEGIN:DAYLIGHT
TZOFFSETFROM:-0500
TZOFFSETTO:-0400
TZNAME:EDT
DTSTART:20250309T070000
END:DAYLIGHT
BEGIN:STANDARD
TZOFFSETFROM:-0400
TZOFFSETTO:-0500
TZNAME:EST
DTSTART:20251102T060000
END:STANDARD
END:VTIMEZONE
BEGIN:VEVENT
DTSTART;VALUE=DATE:20240902
DTEND;VALUE=DATE:20240903
DTSTAMP:20260422T004114
CREATED:20240412T184309Z
LAST-MODIFIED:20240412T184309Z
UID:10000051-1725235200-1725321599@www.johnsonburgasd.net
SUMMARY:Labor Day - School Closed
DESCRIPTION:
URL:https://www.johnsonburgasd.net/event/labor-day-school-closed
END:VEVENT
BEGIN:VEVENT
DTSTART;TZID=America/New_York:20240905T183000
DTEND;TZID=America/New_York:20240905T183000
DTSTAMP:20260422T004114
CREATED:20231208T180407Z
LAST-MODIFIED:20240809T190701Z
UID:10000029-1725561000-1725561000@www.johnsonburgasd.net
SUMMARY:Governing Board Meeting
DESCRIPTION:
URL:https://www.johnsonburgasd.net/event/governing-board-meeting-8
LOCATION:High School Information Center
END:VEVENT
BEGIN:VEVENT
DTSTART;TZID=America/New_York:20240910T163000
DTEND;TZID=America/New_York:20240910T163000
DTSTAMP:20260422T004114
CREATED:20240909T140117Z
LAST-MODIFIED:20240909T140117Z
UID:10000137-1725985800-1725985800@www.johnsonburgasd.net
SUMMARY:Special Governing Board Meeting
DESCRIPTION:
URL:https://www.johnsonburgasd.net/event/special-governing-board-meeting-3
LOCATION:High School Information Center
END:VEVENT
BEGIN:VEVENT
DTSTART;VALUE=DATE:20240911
DTEND;VALUE=DATE:20240912
DTSTAMP:20260422T004114
CREATED:20240828T174426Z
LAST-MODIFIED:20240828T174426Z
UID:10000133-1726012800-1726099199@www.johnsonburgasd.net
SUMMARY:Elementary: Wear Red\, White\, and Blue - Patriot Day
DESCRIPTION:
URL:https://www.johnsonburgasd.net/event/elementary-wear-red-white-and-blue-patriot-day
END:VEVENT
BEGIN:VEVENT
DTSTART;TZID=America/New_York:20240912T080000
DTEND;TZID=America/New_York:20240912T080000
DTSTAMP:20260422T004114
CREATED:20240904T174439Z
LAST-MODIFIED:20240904T174439Z
UID:10000136-1726128000-1726128000@www.johnsonburgasd.net
SUMMARY:High School Lockdown Drill
DESCRIPTION:
URL:https://www.johnsonburgasd.net/event/high-school-lockdown-drill
END:VEVENT
BEGIN:VEVENT
DTSTART;VALUE=DATE:20240913
DTEND;VALUE=DATE:20240920
DTSTAMP:20260422T004114
CREATED:20240828T174516Z
LAST-MODIFIED:20240828T174516Z
UID:10000134-1726185600-1726790399@www.johnsonburgasd.net
SUMMARY:Elementary: Library Book Fair
DESCRIPTION:
URL:https://www.johnsonburgasd.net/event/elementary-library-book-fair
END:VEVENT
BEGIN:VEVENT
DTSTART;VALUE=DATE:20240918
DTEND;VALUE=DATE:20240919
DTSTAMP:20260422T004114
CREATED:20240510T144900Z
LAST-MODIFIED:20240510T144900Z
UID:10000128-1726617600-1726703999@www.johnsonburgasd.net
SUMMARY:High School Open House
DESCRIPTION:
URL:https://www.johnsonburgasd.net/event/high-school-open-house
END:VEVENT
BEGIN:VEVENT
DTSTART;TZID=America/New_York:20240919T180000
DTEND;TZID=America/New_York:20240919T200000
DTSTAMP:20260422T004114
CREATED:20240510T144918Z
LAST-MODIFIED:20240828T174610Z
UID:10000129-1726768800-1726776000@www.johnsonburgasd.net
SUMMARY:Elementary School Open House
DESCRIPTION:
URL:https://www.johnsonburgasd.net/event/elementary-school-open-house
END:VEVENT
BEGIN:VEVENT
DTSTART;VALUE=DATE:20240920
DTEND;VALUE=DATE:20240921
DTSTAMP:20260422T004114
CREATED:20240828T174644Z
LAST-MODIFIED:20240828T174644Z
UID:10000135-1726790400-1726876799@www.johnsonburgasd.net
SUMMARY:Elementary Picture Day
DESCRIPTION:
URL:https://www.johnsonburgasd.net/event/elementary-picture-day
END:VEVENT
BEGIN:VEVENT
DTSTART;VALUE=DATE:20240924
DTEND;VALUE=DATE:20240925
DTSTAMP:20260422T004114
CREATED:20240917T164029Z
LAST-MODIFIED:20240917T164029Z
UID:10000138-1727136000-1727222399@www.johnsonburgasd.net
SUMMARY:Elementary Progress Reports Issued
DESCRIPTION:
URL:https://www.johnsonburgasd.net/event/elementary-progress-reports-issued
END:VEVENT
BEGIN:VEVENT
DTSTART;VALUE=DATE:20240926
DTEND;VALUE=DATE:20240927
DTSTAMP:20260422T004114
CREATED:20240919T045704Z
LAST-MODIFIED:20240919T045704Z
UID:10000139-1727308800-1727395199@www.johnsonburgasd.net
SUMMARY:Annual Elementary Lock Down Drill
DESCRIPTION:
URL:https://www.johnsonburgasd.net/event/annual-elementary-lock-down-drill
END:VEVENT
BEGIN:VEVENT
DTSTART;VALUE=DATE:20240930
DTEND;VALUE=DATE:20241001
DTSTAMP:20260422T004114
CREATED:20240817T042841Z
LAST-MODIFIED:20240817T042841Z
UID:10000131-1727654400-1727740799@www.johnsonburgasd.net
SUMMARY:High School Picture Day
DESCRIPTION:
URL:https://www.johnsonburgasd.net/event/high-school-picture-day
END:VEVENT
END:VCALENDAR