BEGIN:VCALENDAR
VERSION:2.0
PRODID:-//Johnsonburg Area School District - ECPv6.15.17.1//NONSGML v1.0//EN
CALSCALE:GREGORIAN
METHOD:PUBLISH
X-WR-CALNAME:Johnsonburg Area School District
X-ORIGINAL-URL:https://www.johnsonburgasd.net
X-WR-CALDESC:Events for Johnsonburg Area School District
REFRESH-INTERVAL;VALUE=DURATION:PT1H
X-Robots-Tag:noindex
X-PUBLISHED-TTL:PT1H
BEGIN:VTIMEZONE
TZID:America/New_York
BEGIN:DAYLIGHT
TZOFFSETFROM:-0500
TZOFFSETTO:-0400
TZNAME:EDT
DTSTART:20230312T070000
END:DAYLIGHT
BEGIN:STANDARD
TZOFFSETFROM:-0400
TZOFFSETTO:-0500
TZNAME:EST
DTSTART:20231105T060000
END:STANDARD
BEGIN:DAYLIGHT
TZOFFSETFROM:-0500
TZOFFSETTO:-0400
TZNAME:EDT
DTSTART:20240310T070000
END:DAYLIGHT
BEGIN:STANDARD
TZOFFSETFROM:-0400
TZOFFSETTO:-0500
TZNAME:EST
DTSTART:20241103T060000
END:STANDARD
BEGIN:DAYLIGHT
TZOFFSETFROM:-0500
TZOFFSETTO:-0400
TZNAME:EDT
DTSTART:20250309T070000
END:DAYLIGHT
BEGIN:STANDARD
TZOFFSETFROM:-0400
TZOFFSETTO:-0500
TZNAME:EST
DTSTART:20251102T060000
END:STANDARD
END:VTIMEZONE
BEGIN:VEVENT
DTSTART;TZID=America/New_York:20240808T183000
DTEND;TZID=America/New_York:20240808T183000
DTSTAMP:20260424T061042
CREATED:20231208T180346Z
LAST-MODIFIED:20231208T180346Z
UID:10000028-1723141800-1723141800@www.johnsonburgasd.net
SUMMARY:Governing Board Meeting
DESCRIPTION:
URL:https://www.johnsonburgasd.net/event/governing-board-meeting-7
LOCATION:High School Information Center
END:VEVENT
BEGIN:VEVENT
DTSTART;VALUE=DATE:20240819
DTEND;VALUE=DATE:20240820
DTSTAMP:20260424T061042
CREATED:20240412T184218Z
LAST-MODIFIED:20240412T184218Z
UID:10000048-1724025600-1724111999@www.johnsonburgasd.net
SUMMARY:Inservice
DESCRIPTION:
URL:https://www.johnsonburgasd.net/event/inservice
END:VEVENT
BEGIN:VEVENT
DTSTART;VALUE=DATE:20240820
DTEND;VALUE=DATE:20240821
DTSTAMP:20260424T061042
CREATED:20240412T184234Z
LAST-MODIFIED:20240412T184234Z
UID:10000049-1724112000-1724198399@www.johnsonburgasd.net
SUMMARY:Inservice
DESCRIPTION:
URL:https://www.johnsonburgasd.net/event/inservice-2
END:VEVENT
BEGIN:VEVENT
DTSTART;VALUE=DATE:20240821
DTEND;VALUE=DATE:20240822
DTSTAMP:20260424T061042
CREATED:20240412T184252Z
LAST-MODIFIED:20240412T184252Z
UID:10000050-1724198400-1724284799@www.johnsonburgasd.net
SUMMARY:First Day for Students
DESCRIPTION:
URL:https://www.johnsonburgasd.net/event/first-day-for-students
END:VEVENT
BEGIN:VEVENT
DTSTART;TZID=America/New_York:20240829T160000
DTEND;TZID=America/New_York:20240829T160000
DTSTAMP:20260424T061042
CREATED:20240827T021952Z
LAST-MODIFIED:20240827T021952Z
UID:10000132-1724947200-1724947200@www.johnsonburgasd.net
SUMMARY:Athletics Committee Meeting
DESCRIPTION:
URL:https://www.johnsonburgasd.net/event/athletics-committee-meeting-2
END:VEVENT
END:VCALENDAR