BEGIN:VCALENDAR
VERSION:2.0
PRODID:-//Johnsonburg Area School District - ECPv6.15.17.1//NONSGML v1.0//EN
CALSCALE:GREGORIAN
METHOD:PUBLISH
X-WR-CALNAME:Johnsonburg Area School District
X-ORIGINAL-URL:https://www.johnsonburgasd.net
X-WR-CALDESC:Events for Johnsonburg Area School District
REFRESH-INTERVAL;VALUE=DURATION:PT1H
X-Robots-Tag:noindex
X-PUBLISHED-TTL:PT1H
BEGIN:VTIMEZONE
TZID:America/New_York
BEGIN:DAYLIGHT
TZOFFSETFROM:-0500
TZOFFSETTO:-0400
TZNAME:EDT
DTSTART:20230312T070000
END:DAYLIGHT
BEGIN:STANDARD
TZOFFSETFROM:-0400
TZOFFSETTO:-0500
TZNAME:EST
DTSTART:20231105T060000
END:STANDARD
BEGIN:DAYLIGHT
TZOFFSETFROM:-0500
TZOFFSETTO:-0400
TZNAME:EDT
DTSTART:20240310T070000
END:DAYLIGHT
BEGIN:STANDARD
TZOFFSETFROM:-0400
TZOFFSETTO:-0500
TZNAME:EST
DTSTART:20241103T060000
END:STANDARD
BEGIN:DAYLIGHT
TZOFFSETFROM:-0500
TZOFFSETTO:-0400
TZNAME:EDT
DTSTART:20250309T070000
END:DAYLIGHT
BEGIN:STANDARD
TZOFFSETFROM:-0400
TZOFFSETTO:-0500
TZNAME:EST
DTSTART:20251102T060000
END:STANDARD
END:VTIMEZONE
BEGIN:VEVENT
DTSTART;VALUE=DATE:20240226
DTEND;VALUE=DATE:20240302
DTSTAMP:20260424T201730
CREATED:20240123T133330Z
LAST-MODIFIED:20240123T133330Z
UID:10000038-1708905600-1709337599@www.johnsonburgasd.net
SUMMARY:Kindergarten and Pre-K Counts Registration
DESCRIPTION:
URL:https://www.johnsonburgasd.net/event/kindergarten-and-pre-k-counts-registration
END:VEVENT
BEGIN:VEVENT
DTSTART;VALUE=DATE:20240226
DTEND;VALUE=DATE:20240302
DTSTAMP:20260424T201730
CREATED:20240213T193514Z
LAST-MODIFIED:20240213T193514Z
UID:10000040-1708905600-1709337599@www.johnsonburgasd.net
SUMMARY:Elementary Book Fair
DESCRIPTION:
URL:https://www.johnsonburgasd.net/event/elementary-book-fair
END:VEVENT
BEGIN:VEVENT
DTSTART;VALUE=DATE:20240311
DTEND;VALUE=DATE:20240312
DTSTAMP:20260424T201730
CREATED:20231207T163246Z
LAST-MODIFIED:20231207T163246Z
UID:10000010-1710115200-1710201599@www.johnsonburgasd.net
SUMMARY:Act 80 Day
DESCRIPTION:
URL:https://www.johnsonburgasd.net/event/act-80-day
END:VEVENT
BEGIN:VEVENT
DTSTART;VALUE=DATE:20240312
DTEND;VALUE=DATE:20240313
DTSTAMP:20260424T201730
CREATED:20231207T163311Z
LAST-MODIFIED:20231207T163311Z
UID:10000011-1710201600-1710287999@www.johnsonburgasd.net
SUMMARY:Act 80 Day - AM Only
DESCRIPTION:
URL:https://www.johnsonburgasd.net/event/act-80-day-am-only-2
END:VEVENT
BEGIN:VEVENT
DTSTART;TZID=America/New_York:20240314T183000
DTEND;TZID=America/New_York:20240314T183000
DTSTAMP:20260424T201730
CREATED:20231208T180221Z
LAST-MODIFIED:20231208T180221Z
UID:10000024-1710441000-1710441000@www.johnsonburgasd.net
SUMMARY:Governing Board Meeting
DESCRIPTION:
URL:https://www.johnsonburgasd.net/event/governing-board-meeting-3
LOCATION:High School Information Center
END:VEVENT
BEGIN:VEVENT
DTSTART;VALUE=DATE:20240320
DTEND;VALUE=DATE:20240321
DTSTAMP:20260424T201730
CREATED:20231207T163343Z
LAST-MODIFIED:20231207T163343Z
UID:10000012-1710892800-1710979199@www.johnsonburgasd.net
SUMMARY:End of Third Marking Period
DESCRIPTION:
URL:https://www.johnsonburgasd.net/event/end-of-third-marking-period
END:VEVENT
BEGIN:VEVENT
DTSTART;VALUE=DATE:20240323
DTEND;VALUE=DATE:20240324
DTSTAMP:20260424T201730
CREATED:20240221T135412Z
LAST-MODIFIED:20240221T135412Z
UID:10000042-1711152000-1711238399@www.johnsonburgasd.net
SUMMARY:Elementary Yearbook Orders Due
DESCRIPTION:
URL:https://www.johnsonburgasd.net/event/elementary-yearbook-orders-due
END:VEVENT
BEGIN:VEVENT
DTSTART;VALUE=DATE:20240326
DTEND;VALUE=DATE:20240327
DTSTAMP:20260424T201730
CREATED:20240320T075156Z
LAST-MODIFIED:20240320T075156Z
UID:10000043-1711411200-1711497599@www.johnsonburgasd.net
SUMMARY:Elementary Report Cards Issued
DESCRIPTION:
URL:https://www.johnsonburgasd.net/event/elementary-report-cards-issued
END:VEVENT
BEGIN:VEVENT
DTSTART;VALUE=DATE:20240328
DTEND;VALUE=DATE:20240329
DTSTAMP:20260424T201730
CREATED:20231207T163412Z
LAST-MODIFIED:20231207T163412Z
UID:10000013-1711584000-1711670399@www.johnsonburgasd.net
SUMMARY:School Closed - Make Up Day #3
DESCRIPTION:
URL:https://www.johnsonburgasd.net/event/school-closed-make-up-day-3
END:VEVENT
BEGIN:VEVENT
DTSTART;VALUE=DATE:20240329
DTEND;VALUE=DATE:20240330
DTSTAMP:20260424T201730
CREATED:20231207T163440Z
LAST-MODIFIED:20231207T163440Z
UID:10000014-1711670400-1711756799@www.johnsonburgasd.net
SUMMARY:Good Friday - School Closed
DESCRIPTION:
URL:https://www.johnsonburgasd.net/event/good-friday-school-closed
END:VEVENT
END:VCALENDAR