BEGIN:VCALENDAR
VERSION:2.0
PRODID:-//Johnsonburg Area School District - ECPv6.15.17.1//NONSGML v1.0//EN
CALSCALE:GREGORIAN
METHOD:PUBLISH
X-WR-CALNAME:Johnsonburg Area School District
X-ORIGINAL-URL:https://www.johnsonburgasd.net
X-WR-CALDESC:Events for Johnsonburg Area School District
REFRESH-INTERVAL;VALUE=DURATION:PT1H
X-Robots-Tag:noindex
X-PUBLISHED-TTL:PT1H
BEGIN:VTIMEZONE
TZID:America/New_York
BEGIN:DAYLIGHT
TZOFFSETFROM:-0500
TZOFFSETTO:-0400
TZNAME:EDT
DTSTART:20240310T070000
END:DAYLIGHT
BEGIN:STANDARD
TZOFFSETFROM:-0400
TZOFFSETTO:-0500
TZNAME:EST
DTSTART:20241103T060000
END:STANDARD
BEGIN:DAYLIGHT
TZOFFSETFROM:-0500
TZOFFSETTO:-0400
TZNAME:EDT
DTSTART:20250309T070000
END:DAYLIGHT
BEGIN:STANDARD
TZOFFSETFROM:-0400
TZOFFSETTO:-0500
TZNAME:EST
DTSTART:20251102T060000
END:STANDARD
BEGIN:DAYLIGHT
TZOFFSETFROM:-0500
TZOFFSETTO:-0400
TZNAME:EDT
DTSTART:20260308T070000
END:DAYLIGHT
BEGIN:STANDARD
TZOFFSETFROM:-0400
TZOFFSETTO:-0500
TZNAME:EST
DTSTART:20261101T060000
END:STANDARD
END:VTIMEZONE
BEGIN:VEVENT
DTSTART;VALUE=DATE:20250324
DTEND;VALUE=DATE:20250325
DTSTAMP:20260419T161407
CREATED:20250305T175905Z
LAST-MODIFIED:20250305T175905Z
UID:10000239-1742774400-1742860799@www.johnsonburgasd.net
SUMMARY:Last Day to Order Yearbook
DESCRIPTION:
URL:https://www.johnsonburgasd.net/event/last-day-to-order-yearbook
END:VEVENT
BEGIN:VEVENT
DTSTART;VALUE=DATE:20250324
DTEND;VALUE=DATE:20250325
DTSTAMP:20260419T161407
CREATED:20250225T175245Z
LAST-MODIFIED:20250225T175245Z
UID:10000233-1742774400-1742860799@www.johnsonburgasd.net
SUMMARY:NHS Blood Drive
DESCRIPTION:
URL:https://www.johnsonburgasd.net/event/nhs-blood-drive
END:VEVENT
BEGIN:VEVENT
DTSTART;VALUE=DATE:20250321
DTEND;VALUE=DATE:20250322
DTSTAMP:20260419T161407
CREATED:20250225T175155Z
LAST-MODIFIED:20250225T175155Z
UID:10000232-1742515200-1742601599@www.johnsonburgasd.net
SUMMARY:High School Clubs
DESCRIPTION:
URL:https://www.johnsonburgasd.net/event/high-school-clubs
END:VEVENT
BEGIN:VEVENT
DTSTART;VALUE=DATE:20250321
DTEND;VALUE=DATE:20250322
DTSTAMP:20260419T161407
CREATED:20250225T175102Z
LAST-MODIFIED:20250225T175102Z
UID:10000231-1742515200-1742601599@www.johnsonburgasd.net
SUMMARY:Make-Up Day #3 - School In Session
DESCRIPTION:
URL:https://www.johnsonburgasd.net/event/make-up-day-3-school-in-session
END:VEVENT
BEGIN:VEVENT
DTSTART;VALUE=DATE:20250321
DTEND;VALUE=DATE:20250322
DTSTAMP:20260419T161407
CREATED:20240412T190037Z
LAST-MODIFIED:20250225T175924Z
UID:10000074-1742515200-1742601599@www.johnsonburgasd.net
SUMMARY:End of 3rd Marking Period
DESCRIPTION:
URL:https://www.johnsonburgasd.net/event/end-of-3rd-marking-period
END:VEVENT
BEGIN:VEVENT
DTSTART;VALUE=DATE:20250320
DTEND;VALUE=DATE:20250321
DTSTAMP:20260419T161407
CREATED:20250225T175006Z
LAST-MODIFIED:20250225T175006Z
UID:10000230-1742428800-1742515199@www.johnsonburgasd.net
SUMMARY:Spring Sport Pictures: JH/V Track\, Baseball\, and Softball
DESCRIPTION:
URL:https://www.johnsonburgasd.net/event/spring-sport-pictures-jh-v-track-baseball-and-softball
END:VEVENT
BEGIN:VEVENT
DTSTART;TZID=America/New_York:20250317T100000
DTEND;TZID=America/New_York:20250317T100000
DTSTAMP:20260419T161407
CREATED:20250225T174100Z
LAST-MODIFIED:20250225T174100Z
UID:10000220-1742205600-1742205600@www.johnsonburgasd.net
SUMMARY:Sports Eligibility Grades Updated
DESCRIPTION:
URL:https://www.johnsonburgasd.net/event/sports-eligibility-grades-updated-11
END:VEVENT
BEGIN:VEVENT
DTSTART;VALUE=DATE:20250317
DTEND;VALUE=DATE:20250318
DTSTAMP:20260419T161407
CREATED:20250225T174904Z
LAST-MODIFIED:20250225T174904Z
UID:10000229-1742169600-1742255999@www.johnsonburgasd.net
SUMMARY:St. Patricks Day
DESCRIPTION:
URL:https://www.johnsonburgasd.net/event/st-patricks-day
END:VEVENT
BEGIN:VEVENT
DTSTART;VALUE=DATE:20250314
DTEND;VALUE=DATE:20250315
DTSTAMP:20260419T161407
CREATED:20250225T174817Z
LAST-MODIFIED:20250225T174817Z
UID:10000228-1741910400-1741996799@www.johnsonburgasd.net
SUMMARY:High School Sunshine Committee Jeans Day
DESCRIPTION:
URL:https://www.johnsonburgasd.net/event/high-school-sunshine-committee-jeans-day-3
END:VEVENT
BEGIN:VEVENT
DTSTART;VALUE=DATE:20250314
DTEND;VALUE=DATE:20250315
DTSTAMP:20260419T161407
CREATED:20250225T174731Z
LAST-MODIFIED:20250225T174731Z
UID:10000227-1741910400-1741996799@www.johnsonburgasd.net
SUMMARY:High School Birthday Treats
DESCRIPTION:
URL:https://www.johnsonburgasd.net/event/high-school-birthday-treats
END:VEVENT
BEGIN:VEVENT
DTSTART;VALUE=DATE:20250314
DTEND;VALUE=DATE:20250315
DTSTAMP:20260419T161407
CREATED:20250225T174633Z
LAST-MODIFIED:20250225T174633Z
UID:10000226-1741910400-1741996799@www.johnsonburgasd.net
SUMMARY:8th Grade Scheduling – 9th Period
DESCRIPTION:
URL:https://www.johnsonburgasd.net/event/8th-grade-scheduling-9th-period
LOCATION:Library
END:VEVENT
BEGIN:VEVENT
DTSTART;VALUE=DATE:20250313
DTEND;VALUE=DATE:20250314
DTSTAMP:20260419T161407
CREATED:20250225T174539Z
LAST-MODIFIED:20250225T174539Z
UID:10000225-1741824000-1741910399@www.johnsonburgasd.net
SUMMARY:9th Grade Scheduling - 3rd Period
DESCRIPTION:
URL:https://www.johnsonburgasd.net/event/9th-grade-scheduling-3rd-period
LOCATION:Library
END:VEVENT
BEGIN:VEVENT
DTSTART;VALUE=DATE:20250313
DTEND;VALUE=DATE:20250314
DTSTAMP:20260419T161407
CREATED:20250225T174437Z
LAST-MODIFIED:20250225T174437Z
UID:10000224-1741824000-1741910399@www.johnsonburgasd.net
SUMMARY:10th Grade Scheduling – 1st Period
DESCRIPTION:
URL:https://www.johnsonburgasd.net/event/10th-grade-scheduling-1st-period
LOCATION:Library
END:VEVENT
BEGIN:VEVENT
DTSTART;VALUE=DATE:20250312
DTEND;VALUE=DATE:20250313
DTSTAMP:20260419T161407
CREATED:20250311T190407Z
LAST-MODIFIED:20250311T190407Z
UID:10000274-1741737600-1741823999@www.johnsonburgasd.net
SUMMARY:Governing Board Meeting
DESCRIPTION:
URL:https://www.johnsonburgasd.net/event/governing-board-meeting-22
LOCATION:High School Information Center
END:VEVENT
BEGIN:VEVENT
DTSTART;VALUE=DATE:20250312
DTEND;VALUE=DATE:20250313
DTSTAMP:20260419T161407
CREATED:20250225T174344Z
LAST-MODIFIED:20250225T174344Z
UID:10000223-1741737600-1741823999@www.johnsonburgasd.net
SUMMARY:11th Grade Scheduling – 8th Period
DESCRIPTION:
URL:https://www.johnsonburgasd.net/event/11th-grade-scheduling-8th-period
LOCATION:Library
END:VEVENT
BEGIN:VEVENT
DTSTART;VALUE=DATE:20250311
DTEND;VALUE=DATE:20250312
DTSTAMP:20260419T161407
CREATED:20250224T132434Z
LAST-MODIFIED:20250224T132434Z
UID:10000210-1741651200-1741737599@www.johnsonburgasd.net
SUMMARY:Pre-K In Session
DESCRIPTION:
URL:https://www.johnsonburgasd.net/event/pre-k-in-session-2
END:VEVENT
BEGIN:VEVENT
DTSTART;VALUE=DATE:20250311
DTEND;VALUE=DATE:20250312
DTSTAMP:20260419T161407
CREATED:20240412T190016Z
LAST-MODIFIED:20250224T132310Z
UID:10000073-1741651200-1741737599@www.johnsonburgasd.net
SUMMARY:Act 80 Day
DESCRIPTION:
URL:https://www.johnsonburgasd.net/event/a-m-only-act-80-day-3
END:VEVENT
BEGIN:VEVENT
DTSTART;TZID=America/New_York:20250310T100000
DTEND;TZID=America/New_York:20250310T100000
DTSTAMP:20260419T161407
CREATED:20250225T174008Z
LAST-MODIFIED:20250225T174008Z
UID:10000219-1741600800-1741600800@www.johnsonburgasd.net
SUMMARY:Sports Eligibility Grades Updated
DESCRIPTION:
URL:https://www.johnsonburgasd.net/event/sports-eligibility-grades-updated-10
END:VEVENT
BEGIN:VEVENT
DTSTART;VALUE=DATE:20250310
DTEND;VALUE=DATE:20250311
DTSTAMP:20260419T161407
CREATED:20250225T173859Z
LAST-MODIFIED:20250225T173859Z
UID:10000218-1741564800-1741651199@www.johnsonburgasd.net
SUMMARY:First Official Practice Date For Junior High Spring Sports
DESCRIPTION:
URL:https://www.johnsonburgasd.net/event/first-official-practice-date-for-junior-high-spring-sports
END:VEVENT
BEGIN:VEVENT
DTSTART;VALUE=DATE:20250310
DTEND;VALUE=DATE:20250311
DTSTAMP:20260419T161407
CREATED:20250224T132404Z
LAST-MODIFIED:20250224T132404Z
UID:10000209-1741564800-1741651199@www.johnsonburgasd.net
SUMMARY:Pre-K In Session
DESCRIPTION:
URL:https://www.johnsonburgasd.net/event/pre-k-in-session
END:VEVENT
BEGIN:VEVENT
DTSTART;VALUE=DATE:20250310
DTEND;VALUE=DATE:20250311
DTSTAMP:20260419T161407
CREATED:20240412T185955Z
LAST-MODIFIED:20250224T132212Z
UID:10000072-1741564800-1741651199@www.johnsonburgasd.net
SUMMARY:Act 80 Day
DESCRIPTION:
URL:https://www.johnsonburgasd.net/event/act-80-day-3
END:VEVENT
BEGIN:VEVENT
DTSTART;TZID=America/New_York:20250309T140000
DTEND;TZID=America/New_York:20250309T140000
DTSTAMP:20260419T161407
CREATED:20250225T173805Z
LAST-MODIFIED:20250225T173805Z
UID:10000217-1741528800-1741528800@www.johnsonburgasd.net
SUMMARY:High School Drama Club Production
DESCRIPTION:
URL:https://www.johnsonburgasd.net/event/high-school-drama-club-production-3
END:VEVENT
BEGIN:VEVENT
DTSTART;TZID=America/New_York:20250308T190000
DTEND;TZID=America/New_York:20250308T190000
DTSTAMP:20260419T161407
CREATED:20250225T173712Z
LAST-MODIFIED:20250225T173712Z
UID:10000216-1741460400-1741460400@www.johnsonburgasd.net
SUMMARY:High School Drama Club Production
DESCRIPTION:
URL:https://www.johnsonburgasd.net/event/high-school-drama-club-production-2
END:VEVENT
BEGIN:VEVENT
DTSTART;TZID=America/New_York:20250307T190000
DTEND;TZID=America/New_York:20250307T190000
DTSTAMP:20260419T161407
CREATED:20250225T173546Z
LAST-MODIFIED:20250225T173546Z
UID:10000215-1741374000-1741374000@www.johnsonburgasd.net
SUMMARY:High School Drama Club Production
DESCRIPTION:
URL:https://www.johnsonburgasd.net/event/high-school-drama-club-production
END:VEVENT
BEGIN:VEVENT
DTSTART;TZID=America/New_York:20250306T183000
DTEND;TZID=America/New_York:20250306T183000
DTSTAMP:20260419T161407
CREATED:20241210T153921Z
LAST-MODIFIED:20241210T153921Z
UID:10000187-1741285800-1741285800@www.johnsonburgasd.net
SUMMARY:Governing Board Meeting
DESCRIPTION:
URL:https://www.johnsonburgasd.net/event/governing-board-meeting-14
LOCATION:High School Information Center
END:VEVENT
BEGIN:VEVENT
DTSTART;VALUE=DATE:20250306
DTEND;VALUE=DATE:20250307
DTSTAMP:20260419T161407
CREATED:20250225T173443Z
LAST-MODIFIED:20250225T173443Z
UID:10000214-1741219200-1741305599@www.johnsonburgasd.net
SUMMARY:High School Play Preview Over MP
DESCRIPTION:
URL:https://www.johnsonburgasd.net/event/high-school-play-preview-over-mp
END:VEVENT
BEGIN:VEVENT
DTSTART;TZID=America/New_York:20250305T080000
DTEND;TZID=America/New_York:20250305T080000
DTSTAMP:20260419T161407
CREATED:20250225T173341Z
LAST-MODIFIED:20250225T173341Z
UID:10000213-1741161600-1741161600@www.johnsonburgasd.net
SUMMARY:PSAT
DESCRIPTION:
URL:https://www.johnsonburgasd.net/event/psat
LOCATION:Cafe
END:VEVENT
BEGIN:VEVENT
DTSTART;VALUE=DATE:20250303
DTEND;VALUE=DATE:20250307
DTSTAMP:20260419T161407
CREATED:20250128T191238Z
LAST-MODIFIED:20250128T191238Z
UID:10000201-1740960000-1741305599@www.johnsonburgasd.net
SUMMARY:Kindergarten and Pre-K Counts Registration
DESCRIPTION:
URL:https://www.johnsonburgasd.net/event/kindergarten-and-pre-k-counts-registration-2
END:VEVENT
BEGIN:VEVENT
DTSTART;VALUE=DATE:20250303
DTEND;VALUE=DATE:20250304
DTSTAMP:20260419T161407
CREATED:20250225T173207Z
LAST-MODIFIED:20250225T173207Z
UID:10000212-1740960000-1741046399@www.johnsonburgasd.net
SUMMARY:High School Course Recommendations Due
DESCRIPTION:
URL:https://www.johnsonburgasd.net/event/high-school-course-recommendations-due
END:VEVENT
BEGIN:VEVENT
DTSTART;VALUE=DATE:20250303
DTEND;VALUE=DATE:20250304
DTSTAMP:20260419T161407
CREATED:20250225T173059Z
LAST-MODIFIED:20250225T173059Z
UID:10000211-1740960000-1741046399@www.johnsonburgasd.net
SUMMARY:First Official Practice Date for Varsity Spring Sports
DESCRIPTION:
URL:https://www.johnsonburgasd.net/event/first-official-practice-date-for-varsity-spring-sports
END:VEVENT
END:VCALENDAR