BEGIN:VCALENDAR
VERSION:2.0
PRODID:-//Johnsonburg Area School District - ECPv6.15.17.1//NONSGML v1.0//EN
CALSCALE:GREGORIAN
METHOD:PUBLISH
X-WR-CALNAME:Johnsonburg Area School District
X-ORIGINAL-URL:https://www.johnsonburgasd.net
X-WR-CALDESC:Events for Johnsonburg Area School District
REFRESH-INTERVAL;VALUE=DURATION:PT1H
X-Robots-Tag:noindex
X-PUBLISHED-TTL:PT1H
BEGIN:VTIMEZONE
TZID:America/New_York
BEGIN:DAYLIGHT
TZOFFSETFROM:-0500
TZOFFSETTO:-0400
TZNAME:EDT
DTSTART:20240310T070000
END:DAYLIGHT
BEGIN:STANDARD
TZOFFSETFROM:-0400
TZOFFSETTO:-0500
TZNAME:EST
DTSTART:20241103T060000
END:STANDARD
BEGIN:DAYLIGHT
TZOFFSETFROM:-0500
TZOFFSETTO:-0400
TZNAME:EDT
DTSTART:20250309T070000
END:DAYLIGHT
BEGIN:STANDARD
TZOFFSETFROM:-0400
TZOFFSETTO:-0500
TZNAME:EST
DTSTART:20251102T060000
END:STANDARD
BEGIN:DAYLIGHT
TZOFFSETFROM:-0500
TZOFFSETTO:-0400
TZNAME:EDT
DTSTART:20260308T070000
END:DAYLIGHT
BEGIN:STANDARD
TZOFFSETFROM:-0400
TZOFFSETTO:-0500
TZNAME:EST
DTSTART:20261101T060000
END:STANDARD
END:VTIMEZONE
BEGIN:VEVENT
DTSTART;VALUE=DATE:20250425
DTEND;VALUE=DATE:20250426
DTSTAMP:20260419T144059
CREATED:20250402T111524Z
LAST-MODIFIED:20250402T111524Z
UID:10000303-1745539200-1745625599@www.johnsonburgasd.net
SUMMARY:Club Day
DESCRIPTION:
URL:https://www.johnsonburgasd.net/event/club-day-2
END:VEVENT
BEGIN:VEVENT
DTSTART;TZID=America/New_York:20250424T100000
DTEND;TZID=America/New_York:20250424T100000
DTSTAMP:20260419T144059
CREATED:20250424T142026Z
LAST-MODIFIED:20250424T142026Z
UID:10000314-1745488800-1745488800@www.johnsonburgasd.net
SUMMARY:NFMS Prom Assembly
DESCRIPTION:
URL:https://www.johnsonburgasd.net/event/nfms-prom-assembly
END:VEVENT
BEGIN:VEVENT
DTSTART;VALUE=DATE:20250424
DTEND;VALUE=DATE:20250425
DTSTAMP:20260419T144059
CREATED:20250402T111154Z
LAST-MODIFIED:20250402T111154Z
UID:10000298-1745452800-1745539199@www.johnsonburgasd.net
SUMMARY:PSSA ELA: 7th–8th Grade
DESCRIPTION:
URL:https://www.johnsonburgasd.net/event/pssa-ela-7th-8th-grade/2025-04-24
END:VEVENT
BEGIN:VEVENT
DTSTART;VALUE=DATE:20250423
DTEND;VALUE=DATE:20250424
DTSTAMP:20260419T144059
CREATED:20250402T111154Z
LAST-MODIFIED:20250402T111154Z
UID:10000297-1745366400-1745452799@www.johnsonburgasd.net
SUMMARY:PSSA ELA: 7th–8th Grade
DESCRIPTION:
URL:https://www.johnsonburgasd.net/event/pssa-ela-7th-8th-grade/2025-04-23
END:VEVENT
BEGIN:VEVENT
DTSTART;TZID=America/New_York:20250422T100000
DTEND;TZID=America/New_York:20250422T100000
DTSTAMP:20260419T144059
CREATED:20250402T105106Z
LAST-MODIFIED:20250402T105106Z
UID:10000289-1745316000-1745316000@www.johnsonburgasd.net
SUMMARY:Sports Eligibility Grades Updated
DESCRIPTION:
URL:https://www.johnsonburgasd.net/event/sports-eligibility-grades-updated-14/2025-04-22
END:VEVENT
BEGIN:VEVENT
DTSTART;VALUE=DATE:20250422
DTEND;VALUE=DATE:20250423
DTSTAMP:20260419T144059
CREATED:20250402T111154Z
LAST-MODIFIED:20250402T111154Z
UID:10000296-1745280000-1745366399@www.johnsonburgasd.net
SUMMARY:PSSA ELA: 7th–8th Grade
DESCRIPTION:
URL:https://www.johnsonburgasd.net/event/pssa-ela-7th-8th-grade/2025-04-22
END:VEVENT
BEGIN:VEVENT
DTSTART;VALUE=DATE:20250422
DTEND;VALUE=DATE:20250423
DTSTAMP:20260419T144059
CREATED:20240412T190224Z
LAST-MODIFIED:20250417T131451Z
UID:10000078-1745280000-1745366399@www.johnsonburgasd.net
SUMMARY:School In Session - Make-Up Day #2
DESCRIPTION:
URL:https://www.johnsonburgasd.net/event/school-closed-make-up-day-2-2
END:VEVENT
BEGIN:VEVENT
DTSTART;VALUE=DATE:20250421
DTEND;VALUE=DATE:20250422
DTSTAMP:20260419T144059
CREATED:20240412T190202Z
LAST-MODIFIED:20240412T190202Z
UID:10000077-1745193600-1745279999@www.johnsonburgasd.net
SUMMARY:School Closed - Make-Up Day #4
DESCRIPTION:
URL:https://www.johnsonburgasd.net/event/school-closed-make-up-day-4-2
END:VEVENT
BEGIN:VEVENT
DTSTART;VALUE=DATE:20250420
DTEND;VALUE=DATE:20250421
DTSTAMP:20260419T144059
CREATED:20250402T110709Z
LAST-MODIFIED:20250402T110709Z
UID:10000295-1745107200-1745193599@www.johnsonburgasd.net
SUMMARY:Easter Sunday
DESCRIPTION:
URL:https://www.johnsonburgasd.net/event/easter-sunday
END:VEVENT
BEGIN:VEVENT
DTSTART;VALUE=DATE:20250418
DTEND;VALUE=DATE:20250419
DTSTAMP:20260419T144059
CREATED:20240412T190127Z
LAST-MODIFIED:20240412T190127Z
UID:10000076-1744934400-1745020799@www.johnsonburgasd.net
SUMMARY:Good Friday - School Closed
DESCRIPTION:
URL:https://www.johnsonburgasd.net/event/good-friday-school-closed-2
END:VEVENT
BEGIN:VEVENT
DTSTART;VALUE=DATE:20250417
DTEND;VALUE=DATE:20250418
DTSTAMP:20260419T144059
CREATED:20240412T190102Z
LAST-MODIFIED:20250417T131317Z
UID:10000075-1744848000-1744934399@www.johnsonburgasd.net
SUMMARY:School In Session - Make-Up Day #3
DESCRIPTION:
URL:https://www.johnsonburgasd.net/event/school-closed-make-up-day-3-2
END:VEVENT
BEGIN:VEVENT
DTSTART;TZID=America/New_York:20250414T144000
DTEND;TZID=America/New_York:20250414T144000
DTSTAMP:20260419T144059
CREATED:20250402T110610Z
LAST-MODIFIED:20250402T110610Z
UID:10000294-1744641600-1744641600@www.johnsonburgasd.net
SUMMARY:Faculty Meeting
DESCRIPTION:
URL:https://www.johnsonburgasd.net/event/faculty-meeting-2
LOCATION:Information Center
END:VEVENT
BEGIN:VEVENT
DTSTART;TZID=America/New_York:20250414T100000
DTEND;TZID=America/New_York:20250414T100000
DTSTAMP:20260419T144059
CREATED:20250402T105106Z
LAST-MODIFIED:20250402T105106Z
UID:10000288-1744624800-1744624800@www.johnsonburgasd.net
SUMMARY:Sports Eligibility Grades Updated
DESCRIPTION:
URL:https://www.johnsonburgasd.net/event/sports-eligibility-grades-updated-14/2025-04-14
END:VEVENT
BEGIN:VEVENT
DTSTART;VALUE=DATE:20250411
DTEND;VALUE=DATE:20250412
DTSTAMP:20260419T144059
CREATED:20250402T110414Z
LAST-MODIFIED:20250402T110414Z
UID:10000293-1744329600-1744415999@www.johnsonburgasd.net
SUMMARY:Birthday Treats
DESCRIPTION:
URL:https://www.johnsonburgasd.net/event/birthday-treats
END:VEVENT
BEGIN:VEVENT
DTSTART;VALUE=DATE:20250411
DTEND;VALUE=DATE:20250412
DTSTAMP:20260419T144059
CREATED:20250402T110152Z
LAST-MODIFIED:20250402T110152Z
UID:10000292-1744329600-1744415999@www.johnsonburgasd.net
SUMMARY:Sunshine Committee Jeans Day
DESCRIPTION:
URL:https://www.johnsonburgasd.net/event/sunshine-committee-jeans-day-2
END:VEVENT
BEGIN:VEVENT
DTSTART;TZID=America/New_York:20250407T100000
DTEND;TZID=America/New_York:20250407T100000
DTSTAMP:20260419T144059
CREATED:20250402T105106Z
LAST-MODIFIED:20250402T105106Z
UID:10000287-1744020000-1744020000@www.johnsonburgasd.net
SUMMARY:Sports Eligibility Grades Updated
DESCRIPTION:
URL:https://www.johnsonburgasd.net/event/sports-eligibility-grades-updated-14/2025-04-07
END:VEVENT
BEGIN:VEVENT
DTSTART;VALUE=DATE:20250407
DTEND;VALUE=DATE:20250408
DTSTAMP:20260419T144059
CREATED:20250402T104627Z
LAST-MODIFIED:20250402T105425Z
UID:10000286-1743984000-1744070399@www.johnsonburgasd.net
SUMMARY:SAP Meeting
DESCRIPTION:
URL:https://www.johnsonburgasd.net/event/high-school-sap-meeting
END:VEVENT
BEGIN:VEVENT
DTSTART;TZID=America/New_York:20250403T183000
DTEND;TZID=America/New_York:20250403T183000
DTSTAMP:20260419T144059
CREATED:20241210T154003Z
LAST-MODIFIED:20241210T154003Z
UID:10000188-1743705000-1743705000@www.johnsonburgasd.net
SUMMARY:Governing Board Meeting
DESCRIPTION:
URL:https://www.johnsonburgasd.net/event/governing-board-meeting-15
LOCATION:High School Information Center
END:VEVENT
BEGIN:VEVENT
DTSTART;VALUE=DATE:20250403
DTEND;VALUE=DATE:20250404
DTSTAMP:20260419T144059
CREATED:20250402T104513Z
LAST-MODIFIED:20250402T105250Z
UID:10000285-1743638400-1743724799@www.johnsonburgasd.net
SUMMARY:988 Presentation During MP
DESCRIPTION:
URL:https://www.johnsonburgasd.net/event/high-school-988-presentation-during-mp
END:VEVENT
BEGIN:VEVENT
DTSTART;TZID=America/New_York:20250401T130000
DTEND;TZID=America/New_York:20250401T130000
DTSTAMP:20260419T144059
CREATED:20250326T185138Z
LAST-MODIFIED:20250326T185138Z
UID:10000284-1743512400-1743512400@www.johnsonburgasd.net
SUMMARY:Parent Educational Support Group
DESCRIPTION:
URL:https://www.johnsonburgasd.net/event/parent-educational-support-group
END:VEVENT
BEGIN:VEVENT
DTSTART;TZID=America/New_York:20250331T100000
DTEND;TZID=America/New_York:20250331T100000
DTSTAMP:20260419T144059
CREATED:20250225T174248Z
LAST-MODIFIED:20250225T174248Z
UID:10000222-1743415200-1743415200@www.johnsonburgasd.net
SUMMARY:Sports Eligibility Grades Updated
DESCRIPTION:
URL:https://www.johnsonburgasd.net/event/sports-eligibility-grades-updated-13
END:VEVENT
BEGIN:VEVENT
DTSTART;VALUE=DATE:20250328
DTEND;VALUE=DATE:20250329
DTSTAMP:20260419T144059
CREATED:20250225T175745Z
LAST-MODIFIED:20250225T175745Z
UID:10000238-1743120000-1743206399@www.johnsonburgasd.net
SUMMARY:High School Lunch Downtown
DESCRIPTION:
URL:https://www.johnsonburgasd.net/event/high-school-lunch-downtown
END:VEVENT
BEGIN:VEVENT
DTSTART;VALUE=DATE:20250328
DTEND;VALUE=DATE:20250329
DTSTAMP:20260419T144059
CREATED:20250225T175649Z
LAST-MODIFIED:20250225T175649Z
UID:10000237-1743120000-1743206399@www.johnsonburgasd.net
SUMMARY:High School Report Cards Distributed
DESCRIPTION:
URL:https://www.johnsonburgasd.net/event/high-school-report-cards-distributed
END:VEVENT
BEGIN:VEVENT
DTSTART;TZID=America/New_York:20250326T120000
DTEND;TZID=America/New_York:20250326T120000
DTSTAMP:20260419T144059
CREATED:20250225T175551Z
LAST-MODIFIED:20250225T175551Z
UID:10000236-1742990400-1742990400@www.johnsonburgasd.net
SUMMARY:High School Progress Monitoring Due to Donna Miller
DESCRIPTION:
URL:https://www.johnsonburgasd.net/event/high-school-progress-monitoring-due-to-donna-miller
END:VEVENT
BEGIN:VEVENT
DTSTART;TZID=America/New_York:20250325T100000
DTEND;TZID=America/New_York:20250325T100000
DTSTAMP:20260419T144059
CREATED:20250225T175347Z
LAST-MODIFIED:20250225T175347Z
UID:10000234-1742896800-1742896800@www.johnsonburgasd.net
SUMMARY:High School Grades Due
DESCRIPTION:
URL:https://www.johnsonburgasd.net/event/high-school-grades-due
END:VEVENT
BEGIN:VEVENT
DTSTART;TZID=America/New_York:20250325T091500
DTEND;TZID=America/New_York:20250325T110000
DTSTAMP:20260419T144059
CREATED:20250225T175450Z
LAST-MODIFIED:20250225T175450Z
UID:10000235-1742894100-1742900400@www.johnsonburgasd.net
SUMMARY:Reality Fair for Juniors
DESCRIPTION:
URL:https://www.johnsonburgasd.net/event/reality-fair-for-juniors
LOCATION:St. Mary’s High School
END:VEVENT
BEGIN:VEVENT
DTSTART;TZID=America/New_York:20250324T100000
DTEND;TZID=America/New_York:20250324T100000
DTSTAMP:20260419T144059
CREATED:20250225T174156Z
LAST-MODIFIED:20250225T174156Z
UID:10000221-1742810400-1742810400@www.johnsonburgasd.net
SUMMARY:Sports Eligibility Grades Updated
DESCRIPTION:
URL:https://www.johnsonburgasd.net/event/sports-eligibility-grades-updated-12
END:VEVENT
BEGIN:VEVENT
DTSTART;VALUE=DATE:20250324
DTEND;VALUE=DATE:20250325
DTSTAMP:20260419T144059
CREATED:20250305T175905Z
LAST-MODIFIED:20250305T175905Z
UID:10000239-1742774400-1742860799@www.johnsonburgasd.net
SUMMARY:Last Day to Order Yearbook
DESCRIPTION:
URL:https://www.johnsonburgasd.net/event/last-day-to-order-yearbook
END:VEVENT
BEGIN:VEVENT
DTSTART;VALUE=DATE:20250324
DTEND;VALUE=DATE:20250325
DTSTAMP:20260419T144059
CREATED:20250225T175245Z
LAST-MODIFIED:20250225T175245Z
UID:10000233-1742774400-1742860799@www.johnsonburgasd.net
SUMMARY:NHS Blood Drive
DESCRIPTION:
URL:https://www.johnsonburgasd.net/event/nhs-blood-drive
END:VEVENT
BEGIN:VEVENT
DTSTART;VALUE=DATE:20250321
DTEND;VALUE=DATE:20250322
DTSTAMP:20260419T144059
CREATED:20250225T175155Z
LAST-MODIFIED:20250225T175155Z
UID:10000232-1742515200-1742601599@www.johnsonburgasd.net
SUMMARY:High School Clubs
DESCRIPTION:
URL:https://www.johnsonburgasd.net/event/high-school-clubs
END:VEVENT
END:VCALENDAR