BEGIN:VCALENDAR
VERSION:2.0
PRODID:-//Johnsonburg Area School District - ECPv6.15.17.1//NONSGML v1.0//EN
CALSCALE:GREGORIAN
METHOD:PUBLISH
X-WR-CALNAME:Johnsonburg Area School District
X-ORIGINAL-URL:https://www.johnsonburgasd.net
X-WR-CALDESC:Events for Johnsonburg Area School District
REFRESH-INTERVAL;VALUE=DURATION:PT1H
X-Robots-Tag:noindex
X-PUBLISHED-TTL:PT1H
BEGIN:VTIMEZONE
TZID:America/New_York
BEGIN:DAYLIGHT
TZOFFSETFROM:-0500
TZOFFSETTO:-0400
TZNAME:EDT
DTSTART:20250309T070000
END:DAYLIGHT
BEGIN:STANDARD
TZOFFSETFROM:-0400
TZOFFSETTO:-0500
TZNAME:EST
DTSTART:20251102T060000
END:STANDARD
BEGIN:DAYLIGHT
TZOFFSETFROM:-0500
TZOFFSETTO:-0400
TZNAME:EDT
DTSTART:20260308T070000
END:DAYLIGHT
BEGIN:STANDARD
TZOFFSETFROM:-0400
TZOFFSETTO:-0500
TZNAME:EST
DTSTART:20261101T060000
END:STANDARD
BEGIN:DAYLIGHT
TZOFFSETFROM:-0500
TZOFFSETTO:-0400
TZNAME:EDT
DTSTART:20270314T070000
END:DAYLIGHT
BEGIN:STANDARD
TZOFFSETFROM:-0400
TZOFFSETTO:-0500
TZNAME:EST
DTSTART:20271107T060000
END:STANDARD
END:VTIMEZONE
BEGIN:VEVENT
DTSTART;VALUE=DATE:20260420
DTEND;VALUE=DATE:20260425
DTSTAMP:20260421T054824
CREATED:20250311T195243Z
LAST-MODIFIED:20250311T195243Z
UID:10000280-1776643200-1777075199@www.johnsonburgasd.net
SUMMARY:PSSA ELA Testing - Grades 3–8
DESCRIPTION:
URL:https://www.johnsonburgasd.net/event/pssa-ela-testing-grades-3-8
END:VEVENT
BEGIN:VEVENT
DTSTART;TZID=America/New_York:20260421T153000
DTEND;TZID=America/New_York:20260421T153000
DTSTAMP:20260421T054824
CREATED:20260420T173744Z
LAST-MODIFIED:20260420T173744Z
UID:10000463-1776785400-1776785400@www.johnsonburgasd.net
SUMMARY:Curriculum Committee Meeting
DESCRIPTION:
URL:https://www.johnsonburgasd.net/event/curriculum-committee-meeting
END:VEVENT
BEGIN:VEVENT
DTSTART;TZID=America/New_York:20260421T163000
DTEND;TZID=America/New_York:20260421T163000
DTSTAMP:20260421T054824
CREATED:20260420T173644Z
LAST-MODIFIED:20260420T173644Z
UID:10000462-1776789000-1776789000@www.johnsonburgasd.net
SUMMARY:Athletic Committee Meeting
DESCRIPTION:
URL:https://www.johnsonburgasd.net/event/athletic-committee-meeting-2
END:VEVENT
END:VCALENDAR