BEGIN:VCALENDAR
VERSION:2.0
PRODID:-//Johnsonburg Area School District - ECPv6.15.17.1//NONSGML v1.0//EN
CALSCALE:GREGORIAN
METHOD:PUBLISH
X-WR-CALNAME:Johnsonburg Area School District
X-ORIGINAL-URL:https://www.johnsonburgasd.net
X-WR-CALDESC:Events for Johnsonburg Area School District
REFRESH-INTERVAL;VALUE=DURATION:PT1H
X-Robots-Tag:noindex
X-PUBLISHED-TTL:PT1H
BEGIN:VTIMEZONE
TZID:America/New_York
BEGIN:DAYLIGHT
TZOFFSETFROM:-0500
TZOFFSETTO:-0400
TZNAME:EDT
DTSTART:20240310T070000
END:DAYLIGHT
BEGIN:STANDARD
TZOFFSETFROM:-0400
TZOFFSETTO:-0500
TZNAME:EST
DTSTART:20241103T060000
END:STANDARD
BEGIN:DAYLIGHT
TZOFFSETFROM:-0500
TZOFFSETTO:-0400
TZNAME:EDT
DTSTART:20250309T070000
END:DAYLIGHT
BEGIN:STANDARD
TZOFFSETFROM:-0400
TZOFFSETTO:-0500
TZNAME:EST
DTSTART:20251102T060000
END:STANDARD
BEGIN:DAYLIGHT
TZOFFSETFROM:-0500
TZOFFSETTO:-0400
TZNAME:EDT
DTSTART:20260308T070000
END:DAYLIGHT
BEGIN:STANDARD
TZOFFSETFROM:-0400
TZOFFSETTO:-0500
TZNAME:EST
DTSTART:20261101T060000
END:STANDARD
END:VTIMEZONE
BEGIN:VEVENT
DTSTART;VALUE=DATE:20250522
DTEND;VALUE=DATE:20250523
DTSTAMP:20260421T055315
CREATED:20250424T144122Z
LAST-MODIFIED:20250424T144122Z
UID:10000337-1747872000-1747958399@www.johnsonburgasd.net
SUMMARY:Underclass Math/SS
DESCRIPTION:
URL:https://www.johnsonburgasd.net/event/underclass-math-ss
END:VEVENT
BEGIN:VEVENT
DTSTART;VALUE=DATE:20250522
DTEND;VALUE=DATE:20250523
DTSTAMP:20260421T055315
CREATED:20250424T144159Z
LAST-MODIFIED:20250424T144159Z
UID:10000338-1747872000-1747958399@www.johnsonburgasd.net
SUMMARY:Seniors Last Day
DESCRIPTION:
URL:https://www.johnsonburgasd.net/event/seniors-last-day-2
END:VEVENT
BEGIN:VEVENT
DTSTART;VALUE=DATE:20250522
DTEND;VALUE=DATE:20250523
DTSTAMP:20260421T055315
CREATED:20250520T201433Z
LAST-MODIFIED:20250520T201433Z
UID:10000351-1747872000-1747958399@www.johnsonburgasd.net
SUMMARY:Senior Walk
DESCRIPTION:
URL:https://www.johnsonburgasd.net/event/senior-walk-2
END:VEVENT
BEGIN:VEVENT
DTSTART;TZID=America/New_York:20250522T123000
DTEND;TZID=America/New_York:20250522T123000
DTSTAMP:20260421T055315
CREATED:20250424T144250Z
LAST-MODIFIED:20250424T144250Z
UID:10000339-1747917000-1747917000@www.johnsonburgasd.net
SUMMARY:ES Lap
DESCRIPTION:
URL:https://www.johnsonburgasd.net/event/es-lap
END:VEVENT
BEGIN:VEVENT
DTSTART;TZID=America/New_York:20250522T180000
DTEND;TZID=America/New_York:20250522T180000
DTSTAMP:20260421T055315
CREATED:20250424T144340Z
LAST-MODIFIED:20250424T144340Z
UID:10000340-1747936800-1747936800@www.johnsonburgasd.net
SUMMARY:Big 30 Banquet
DESCRIPTION:
URL:https://www.johnsonburgasd.net/event/big-30-banquet
END:VEVENT
END:VCALENDAR