BEGIN:VCALENDAR
VERSION:2.0
PRODID:-//Johnsonburg Area School District - ECPv6.15.17.1//NONSGML v1.0//EN
CALSCALE:GREGORIAN
METHOD:PUBLISH
X-WR-CALNAME:Johnsonburg Area School District
X-ORIGINAL-URL:https://www.johnsonburgasd.net
X-WR-CALDESC:Events for Johnsonburg Area School District
REFRESH-INTERVAL;VALUE=DURATION:PT1H
X-Robots-Tag:noindex
X-PUBLISHED-TTL:PT1H
BEGIN:VTIMEZONE
TZID:America/New_York
BEGIN:DAYLIGHT
TZOFFSETFROM:-0500
TZOFFSETTO:-0400
TZNAME:EDT
DTSTART:20240310T070000
END:DAYLIGHT
BEGIN:STANDARD
TZOFFSETFROM:-0400
TZOFFSETTO:-0500
TZNAME:EST
DTSTART:20241103T060000
END:STANDARD
BEGIN:DAYLIGHT
TZOFFSETFROM:-0500
TZOFFSETTO:-0400
TZNAME:EDT
DTSTART:20250309T070000
END:DAYLIGHT
BEGIN:STANDARD
TZOFFSETFROM:-0400
TZOFFSETTO:-0500
TZNAME:EST
DTSTART:20251102T060000
END:STANDARD
BEGIN:DAYLIGHT
TZOFFSETFROM:-0500
TZOFFSETTO:-0400
TZNAME:EDT
DTSTART:20260308T070000
END:DAYLIGHT
BEGIN:STANDARD
TZOFFSETFROM:-0400
TZOFFSETTO:-0500
TZNAME:EST
DTSTART:20261101T060000
END:STANDARD
END:VTIMEZONE
BEGIN:VEVENT
DTSTART;VALUE=DATE:20250515
DTEND;VALUE=DATE:20250516
DTSTAMP:20260421T055405
CREATED:20250424T143226Z
LAST-MODIFIED:20250424T143226Z
UID:10000325-1747267200-1747353599@www.johnsonburgasd.net
SUMMARY:Keystone Exams: Algebra 1
DESCRIPTION:
URL:https://www.johnsonburgasd.net/event/keystone-exams-algebra-1
END:VEVENT
BEGIN:VEVENT
DTSTART;VALUE=DATE:20250515
DTEND;VALUE=DATE:20250516
DTSTAMP:20260421T055405
CREATED:20250424T143306Z
LAST-MODIFIED:20250424T143306Z
UID:10000326-1747267200-1747353599@www.johnsonburgasd.net
SUMMARY:Seniors – Math
DESCRIPTION:
URL:https://www.johnsonburgasd.net/event/seniors-math
END:VEVENT
BEGIN:VEVENT
DTSTART;TZID=America/New_York:20250515T163000
DTEND;TZID=America/New_York:20250515T163000
DTSTAMP:20260421T055405
CREATED:20250424T143351Z
LAST-MODIFIED:20250424T143351Z
UID:10000327-1747326600-1747326600@www.johnsonburgasd.net
SUMMARY:NHS Banquet
DESCRIPTION:
URL:https://www.johnsonburgasd.net/event/nhs-banquet-2
END:VEVENT
BEGIN:VEVENT
DTSTART;TZID=America/New_York:20250515T183000
DTEND;TZID=America/New_York:20250515T183000
DTSTAMP:20260421T055405
CREATED:20241210T154241Z
LAST-MODIFIED:20241210T154241Z
UID:10000190-1747333800-1747333800@www.johnsonburgasd.net
SUMMARY:Governing Board Meeting
DESCRIPTION:
URL:https://www.johnsonburgasd.net/event/governing-board-meeting-16
LOCATION:High School Information Center
END:VEVENT
END:VCALENDAR