BEGIN:VCALENDAR
VERSION:2.0
PRODID:-//Johnsonburg Area School District - ECPv6.15.17.1//NONSGML v1.0//EN
CALSCALE:GREGORIAN
METHOD:PUBLISH
X-WR-CALNAME:Johnsonburg Area School District
X-ORIGINAL-URL:https://www.johnsonburgasd.net
X-WR-CALDESC:Events for Johnsonburg Area School District
REFRESH-INTERVAL;VALUE=DURATION:PT1H
X-Robots-Tag:noindex
X-PUBLISHED-TTL:PT1H
BEGIN:VTIMEZONE
TZID:America/New_York
BEGIN:DAYLIGHT
TZOFFSETFROM:-0500
TZOFFSETTO:-0400
TZNAME:EDT
DTSTART:20240310T070000
END:DAYLIGHT
BEGIN:STANDARD
TZOFFSETFROM:-0400
TZOFFSETTO:-0500
TZNAME:EST
DTSTART:20241103T060000
END:STANDARD
BEGIN:DAYLIGHT
TZOFFSETFROM:-0500
TZOFFSETTO:-0400
TZNAME:EDT
DTSTART:20250309T070000
END:DAYLIGHT
BEGIN:STANDARD
TZOFFSETFROM:-0400
TZOFFSETTO:-0500
TZNAME:EST
DTSTART:20251102T060000
END:STANDARD
BEGIN:DAYLIGHT
TZOFFSETFROM:-0500
TZOFFSETTO:-0400
TZNAME:EDT
DTSTART:20260308T070000
END:DAYLIGHT
BEGIN:STANDARD
TZOFFSETFROM:-0400
TZOFFSETTO:-0500
TZNAME:EST
DTSTART:20261101T060000
END:STANDARD
END:VTIMEZONE
BEGIN:VEVENT
DTSTART;VALUE=DATE:20250513
DTEND;VALUE=DATE:20250514
DTSTAMP:20260421T055334
CREATED:20250424T142830Z
LAST-MODIFIED:20250424T142830Z
UID:10000320-1747094400-1747180799@www.johnsonburgasd.net
SUMMARY:Seniors - SS/Elective
DESCRIPTION:
URL:https://www.johnsonburgasd.net/event/seniors-ss-elective
END:VEVENT
BEGIN:VEVENT
DTSTART;VALUE=DATE:20250513
DTEND;VALUE=DATE:20250514
DTSTAMP:20260421T055334
CREATED:20250424T142924Z
LAST-MODIFIED:20250424T142924Z
UID:10000321-1747094400-1747180799@www.johnsonburgasd.net
SUMMARY:Keystone Exams: LIT\, Grade 10\, and Re-Test
DESCRIPTION:
URL:https://www.johnsonburgasd.net/event/keystone-exams-lit-grade-10-and-re-test
END:VEVENT
END:VCALENDAR