BEGIN:VCALENDAR
VERSION:2.0
PRODID:-//Johnsonburg Area School District - ECPv6.15.17.1//NONSGML v1.0//EN
CALSCALE:GREGORIAN
METHOD:PUBLISH
X-WR-CALNAME:Johnsonburg Area School District
X-ORIGINAL-URL:https://www.johnsonburgasd.net
X-WR-CALDESC:Events for Johnsonburg Area School District
REFRESH-INTERVAL;VALUE=DURATION:PT1H
X-Robots-Tag:noindex
X-PUBLISHED-TTL:PT1H
BEGIN:VTIMEZONE
TZID:America/New_York
BEGIN:DAYLIGHT
TZOFFSETFROM:-0500
TZOFFSETTO:-0400
TZNAME:EDT
DTSTART:20230312T070000
END:DAYLIGHT
BEGIN:STANDARD
TZOFFSETFROM:-0400
TZOFFSETTO:-0500
TZNAME:EST
DTSTART:20231105T060000
END:STANDARD
BEGIN:DAYLIGHT
TZOFFSETFROM:-0500
TZOFFSETTO:-0400
TZNAME:EDT
DTSTART:20240310T070000
END:DAYLIGHT
BEGIN:STANDARD
TZOFFSETFROM:-0400
TZOFFSETTO:-0500
TZNAME:EST
DTSTART:20241103T060000
END:STANDARD
BEGIN:DAYLIGHT
TZOFFSETFROM:-0500
TZOFFSETTO:-0400
TZNAME:EDT
DTSTART:20250309T070000
END:DAYLIGHT
BEGIN:STANDARD
TZOFFSETFROM:-0400
TZOFFSETTO:-0500
TZNAME:EST
DTSTART:20251102T060000
END:STANDARD
END:VTIMEZONE
BEGIN:VEVENT
DTSTART;VALUE=DATE:20241127
DTEND;VALUE=DATE:20241128
DTSTAMP:20260421T210558
CREATED:20241024T181821Z
LAST-MODIFIED:20241024T181821Z
UID:10000182-1732665600-1732751999@www.johnsonburgasd.net
SUMMARY:High School Sunshine Committee Jeans Day (Free)
DESCRIPTION:
URL:https://www.johnsonburgasd.net/event/high-school-sunshine-committee-jeans-day-free
END:VEVENT
BEGIN:VEVENT
DTSTART;VALUE=DATE:20241127
DTEND;VALUE=DATE:20241128
DTSTAMP:20260421T210558
CREATED:20241024T182152Z
LAST-MODIFIED:20241024T182152Z
UID:10000183-1732665600-1732751999@www.johnsonburgasd.net
SUMMARY:High School Early Dismissal
DESCRIPTION:
URL:https://www.johnsonburgasd.net/event/high-school-early-dismissal
END:VEVENT
END:VCALENDAR