BEGIN:VCALENDAR
VERSION:2.0
PRODID:-//Johnsonburg Area School District - ECPv6.15.17.1//NONSGML v1.0//EN
CALSCALE:GREGORIAN
METHOD:PUBLISH
X-ORIGINAL-URL:https://www.johnsonburgasd.net
X-WR-CALDESC:Events for Johnsonburg Area School District
REFRESH-INTERVAL;VALUE=DURATION:PT1H
X-Robots-Tag:noindex
X-PUBLISHED-TTL:PT1H
BEGIN:VTIMEZONE
TZID:America/New_York
BEGIN:DAYLIGHT
TZOFFSETFROM:-0500
TZOFFSETTO:-0400
TZNAME:EDT
DTSTART:20230312T070000
END:DAYLIGHT
BEGIN:STANDARD
TZOFFSETFROM:-0400
TZOFFSETTO:-0500
TZNAME:EST
DTSTART:20231105T060000
END:STANDARD
BEGIN:DAYLIGHT
TZOFFSETFROM:-0500
TZOFFSETTO:-0400
TZNAME:EDT
DTSTART:20240310T070000
END:DAYLIGHT
BEGIN:STANDARD
TZOFFSETFROM:-0400
TZOFFSETTO:-0500
TZNAME:EST
DTSTART:20241103T060000
END:STANDARD
BEGIN:DAYLIGHT
TZOFFSETFROM:-0500
TZOFFSETTO:-0400
TZNAME:EDT
DTSTART:20250309T070000
END:DAYLIGHT
BEGIN:STANDARD
TZOFFSETFROM:-0400
TZOFFSETTO:-0500
TZNAME:EST
DTSTART:20251102T060000
END:STANDARD
END:VTIMEZONE
BEGIN:VEVENT
DTSTART;VALUE=DATE:20240528
DTEND;VALUE=DATE:20240530
DTSTAMP:20260424T174007
CREATED:20240501T030019Z
LAST-MODIFIED:20240501T030019Z
UID:10000114-1716854400-1717027199@www.johnsonburgasd.net
SUMMARY:Locker Clean Out
DESCRIPTION:
URL:https://www.johnsonburgasd.net/event/locker-clean-out
END:VEVENT
BEGIN:VEVENT
DTSTART;VALUE=DATE:20240529
DTEND;VALUE=DATE:20240530
DTSTAMP:20260424T174007
CREATED:20240501T030504Z
LAST-MODIFIED:20240501T030504Z
UID:10000120-1716940800-1717027199@www.johnsonburgasd.net
SUMMARY:Bills Due
DESCRIPTION:
URL:https://www.johnsonburgasd.net/event/bills-due
END:VEVENT
BEGIN:VEVENT
DTSTART;TZID=America/New_York:20240529T100000
DTEND;TZID=America/New_York:20240529T120000
DTSTAMP:20260424T174007
CREATED:20240501T030417Z
LAST-MODIFIED:20240501T030417Z
UID:10000118-1716976800-1716984000@www.johnsonburgasd.net
SUMMARY:Graduation Practice
DESCRIPTION:
URL:https://www.johnsonburgasd.net/event/graduation-practice-2
END:VEVENT
BEGIN:VEVENT
DTSTART;TZID=America/New_York:20240529T133000
DTEND;TZID=America/New_York:20240529T133000
DTSTAMP:20260424T174007
CREATED:20240501T030332Z
LAST-MODIFIED:20240501T030332Z
UID:10000117-1716989400-1716989400@www.johnsonburgasd.net
SUMMARY:Academic Awards Grades 7–11 Slideshow
DESCRIPTION:
URL:https://www.johnsonburgasd.net/event/academic-awards-grades-7-11-slideshow
END:VEVENT
BEGIN:VEVENT
DTSTART;TZID=America/New_York:20240529T180000
DTEND;TZID=America/New_York:20240529T180000
DTSTAMP:20260424T174007
CREATED:20240501T030448Z
LAST-MODIFIED:20240501T030448Z
UID:10000119-1717005600-1717005600@www.johnsonburgasd.net
SUMMARY:Senior Banquet
DESCRIPTION:
URL:https://www.johnsonburgasd.net/event/senior-banquet
END:VEVENT
END:VCALENDAR